BEGIN:VCALENDAR
PRODID:-//www.city.kodaira.tokyo.jp//event
VERSION:2.0
CALSCALE:GREGORIAN
METHOD:PUBLISH
X-WR-CALNAME:Kodaira Event Calendar
X-WR-TIMEZONE:Asia/Tokyo
BEGIN:VEVENT
DTSTART;VALUE=DATE:20260612
DTEND;VALUE=DATE:20260613
DTSTAMP:20260425T100300Z
UID:event126814_1@www.city.kodaira.tokyo.jp
DESCRIPTION:さまざまな体験を通して、ゆっくりと顔なじみを増やしていく全10回の講座です。特別な準備や特技は必要ありません。回を重ねるごとに自然に会話が生まれ、気づけば仲間ができている…そんな時間を大切にします。公民館をきっかけに地域とのつながりを広げ、笑顔でセカンドライフを迎えませんか。あなたの一歩を応援します。\n\nhttps://www.city.kodaira.tokyo.jp/event/126/126814.html
LOCATION:
SEQUENCE:0
STATUS:CONFIRMED
SUMMARY:小川公民館　シニア講座　笑顔で迎えるセカンドライフ講座 ～公民館から地域デビュー～
TRANSP:OPAQUE
END:VEVENT
BEGIN:VEVENT
DTSTART;VALUE=DATE:20260626
DTEND;VALUE=DATE:20260627
DTSTAMP:20260425T100300Z
UID:event126814_2@www.city.kodaira.tokyo.jp
DESCRIPTION:さまざまな体験を通して、ゆっくりと顔なじみを増やしていく全10回の講座です。特別な準備や特技は必要ありません。回を重ねるごとに自然に会話が生まれ、気づけば仲間ができている…そんな時間を大切にします。公民館をきっかけに地域とのつながりを広げ、笑顔でセカンドライフを迎えませんか。あなたの一歩を応援します。\n\nhttps://www.city.kodaira.tokyo.jp/event/126/126814.html
LOCATION:
SEQUENCE:0
STATUS:CONFIRMED
SUMMARY:小川公民館　シニア講座　笑顔で迎えるセカンドライフ講座 ～公民館から地域デビュー～
TRANSP:OPAQUE
END:VEVENT
BEGIN:VEVENT
DTSTART;VALUE=DATE:20260710
DTEND;VALUE=DATE:20260711
DTSTAMP:20260425T100300Z
UID:event126814_3@www.city.kodaira.tokyo.jp
DESCRIPTION:さまざまな体験を通して、ゆっくりと顔なじみを増やしていく全10回の講座です。特別な準備や特技は必要ありません。回を重ねるごとに自然に会話が生まれ、気づけば仲間ができている…そんな時間を大切にします。公民館をきっかけに地域とのつながりを広げ、笑顔でセカンドライフを迎えませんか。あなたの一歩を応援します。\n\nhttps://www.city.kodaira.tokyo.jp/event/126/126814.html
LOCATION:
SEQUENCE:0
STATUS:CONFIRMED
SUMMARY:小川公民館　シニア講座　笑顔で迎えるセカンドライフ講座 ～公民館から地域デビュー～
TRANSP:OPAQUE
END:VEVENT
BEGIN:VEVENT
DTSTART;VALUE=DATE:20260724
DTEND;VALUE=DATE:20260725
DTSTAMP:20260425T100300Z
UID:event126814_4@www.city.kodaira.tokyo.jp
DESCRIPTION:さまざまな体験を通して、ゆっくりと顔なじみを増やしていく全10回の講座です。特別な準備や特技は必要ありません。回を重ねるごとに自然に会話が生まれ、気づけば仲間ができている…そんな時間を大切にします。公民館をきっかけに地域とのつながりを広げ、笑顔でセカンドライフを迎えませんか。あなたの一歩を応援します。\n\nhttps://www.city.kodaira.tokyo.jp/event/126/126814.html
LOCATION:
SEQUENCE:0
STATUS:CONFIRMED
SUMMARY:小川公民館　シニア講座　笑顔で迎えるセカンドライフ講座 ～公民館から地域デビュー～
TRANSP:OPAQUE
END:VEVENT
BEGIN:VEVENT
DTSTART;VALUE=DATE:20260911
DTEND;VALUE=DATE:20260912
DTSTAMP:20260425T100300Z
UID:event126814_5@www.city.kodaira.tokyo.jp
DESCRIPTION:さまざまな体験を通して、ゆっくりと顔なじみを増やしていく全10回の講座です。特別な準備や特技は必要ありません。回を重ねるごとに自然に会話が生まれ、気づけば仲間ができている…そんな時間を大切にします。公民館をきっかけに地域とのつながりを広げ、笑顔でセカンドライフを迎えませんか。あなたの一歩を応援します。\n\nhttps://www.city.kodaira.tokyo.jp/event/126/126814.html
LOCATION:
SEQUENCE:0
STATUS:CONFIRMED
SUMMARY:小川公民館　シニア講座　笑顔で迎えるセカンドライフ講座 ～公民館から地域デビュー～
TRANSP:OPAQUE
END:VEVENT
BEGIN:VEVENT
DTSTART;VALUE=DATE:20260925
DTEND;VALUE=DATE:20260926
DTSTAMP:20260425T100300Z
UID:event126814_6@www.city.kodaira.tokyo.jp
DESCRIPTION:さまざまな体験を通して、ゆっくりと顔なじみを増やしていく全10回の講座です。特別な準備や特技は必要ありません。回を重ねるごとに自然に会話が生まれ、気づけば仲間ができている…そんな時間を大切にします。公民館をきっかけに地域とのつながりを広げ、笑顔でセカンドライフを迎えませんか。あなたの一歩を応援します。\n\nhttps://www.city.kodaira.tokyo.jp/event/126/126814.html
LOCATION:
SEQUENCE:0
STATUS:CONFIRMED
SUMMARY:小川公民館　シニア講座　笑顔で迎えるセカンドライフ講座 ～公民館から地域デビュー～
TRANSP:OPAQUE
END:VEVENT
BEGIN:VEVENT
DTSTART;VALUE=DATE:20261009
DTEND;VALUE=DATE:20261010
DTSTAMP:20260425T100300Z
UID:event126814_7@www.city.kodaira.tokyo.jp
DESCRIPTION:さまざまな体験を通して、ゆっくりと顔なじみを増やしていく全10回の講座です。特別な準備や特技は必要ありません。回を重ねるごとに自然に会話が生まれ、気づけば仲間ができている…そんな時間を大切にします。公民館をきっかけに地域とのつながりを広げ、笑顔でセカンドライフを迎えませんか。あなたの一歩を応援します。\n\nhttps://www.city.kodaira.tokyo.jp/event/126/126814.html
LOCATION:
SEQUENCE:0
STATUS:CONFIRMED
SUMMARY:小川公民館　シニア講座　笑顔で迎えるセカンドライフ講座 ～公民館から地域デビュー～
TRANSP:OPAQUE
END:VEVENT
BEGIN:VEVENT
DTSTART;VALUE=DATE:20261023
DTEND;VALUE=DATE:20261024
DTSTAMP:20260425T100300Z
UID:event126814_8@www.city.kodaira.tokyo.jp
DESCRIPTION:さまざまな体験を通して、ゆっくりと顔なじみを増やしていく全10回の講座です。特別な準備や特技は必要ありません。回を重ねるごとに自然に会話が生まれ、気づけば仲間ができている…そんな時間を大切にします。公民館をきっかけに地域とのつながりを広げ、笑顔でセカンドライフを迎えませんか。あなたの一歩を応援します。\n\nhttps://www.city.kodaira.tokyo.jp/event/126/126814.html
LOCATION:
SEQUENCE:0
STATUS:CONFIRMED
SUMMARY:小川公民館　シニア講座　笑顔で迎えるセカンドライフ講座 ～公民館から地域デビュー～
TRANSP:OPAQUE
END:VEVENT
BEGIN:VEVENT
DTSTART;VALUE=DATE:20261113
DTEND;VALUE=DATE:20261114
DTSTAMP:20260425T100300Z
UID:event126814_9@www.city.kodaira.tokyo.jp
DESCRIPTION:さまざまな体験を通して、ゆっくりと顔なじみを増やしていく全10回の講座です。特別な準備や特技は必要ありません。回を重ねるごとに自然に会話が生まれ、気づけば仲間ができている…そんな時間を大切にします。公民館をきっかけに地域とのつながりを広げ、笑顔でセカンドライフを迎えませんか。あなたの一歩を応援します。\n\nhttps://www.city.kodaira.tokyo.jp/event/126/126814.html
LOCATION:
SEQUENCE:0
STATUS:CONFIRMED
SUMMARY:小川公民館　シニア講座　笑顔で迎えるセカンドライフ講座 ～公民館から地域デビュー～
TRANSP:OPAQUE
END:VEVENT
BEGIN:VEVENT
DTSTART;VALUE=DATE:20261127
DTEND;VALUE=DATE:20261128
DTSTAMP:20260425T100300Z
UID:event126814_10@www.city.kodaira.tokyo.jp
DESCRIPTION:さまざまな体験を通して、ゆっくりと顔なじみを増やしていく全10回の講座です。特別な準備や特技は必要ありません。回を重ねるごとに自然に会話が生まれ、気づけば仲間ができている…そんな時間を大切にします。公民館をきっかけに地域とのつながりを広げ、笑顔でセカンドライフを迎えませんか。あなたの一歩を応援します。\n\nhttps://www.city.kodaira.tokyo.jp/event/126/126814.html
LOCATION:
SEQUENCE:0
STATUS:CONFIRMED
SUMMARY:小川公民館　シニア講座　笑顔で迎えるセカンドライフ講座 ～公民館から地域デビュー～
TRANSP:OPAQUE
END:VEVENT
END:VCALENDAR