BEGIN:VCALENDAR
PRODID:-//www.city.kodaira.tokyo.jp//event
VERSION:2.0
CALSCALE:GREGORIAN
METHOD:PUBLISH
X-WR-CALNAME:Kodaira Event Calendar
X-WR-TIMEZONE:Asia/Tokyo
BEGIN:VEVENT
DTSTART;VALUE=DATE:20260605
DTEND;VALUE=DATE:20260606
DTSTAMP:20260425T100300Z
UID:event126815_1@www.city.kodaira.tokyo.jp
DESCRIPTION:夏のからだに寄り添う薬膳の考え方を、やさしい解説と調理実習を通して学びます。季節の食材を使った薬膳ごはんを実際に作りながら、暑さと上手につきあうための食の工夫や、日々の食卓に取り入れやすいヒントを紹介します。薬膳が初めての方でも安心して参加できる内容です。現時点では酸梅湯ほかを予定しています。（変更の可能性有）\n\nhttps://www.city.kodaira.tokyo.jp/event/126/126815.html
LOCATION:
SEQUENCE:0
STATUS:CONFIRMED
SUMMARY:小川公民館　健康づくり講座　夏のからだに寄り添う薬膳ごはん～猛暑を生きる～
TRANSP:OPAQUE
END:VEVENT
BEGIN:VEVENT
DTSTART;VALUE=DATE:20260612
DTEND;VALUE=DATE:20260613
DTSTAMP:20260425T100300Z
UID:event126815_2@www.city.kodaira.tokyo.jp
DESCRIPTION:夏のからだに寄り添う薬膳の考え方を、やさしい解説と調理実習を通して学びます。季節の食材を使った薬膳ごはんを実際に作りながら、暑さと上手につきあうための食の工夫や、日々の食卓に取り入れやすいヒントを紹介します。薬膳が初めての方でも安心して参加できる内容です。現時点では酸梅湯ほかを予定しています。（変更の可能性有）\n\nhttps://www.city.kodaira.tokyo.jp/event/126/126815.html
LOCATION:
SEQUENCE:0
STATUS:CONFIRMED
SUMMARY:小川公民館　健康づくり講座　夏のからだに寄り添う薬膳ごはん～猛暑を生きる～
TRANSP:OPAQUE
END:VEVENT
END:VCALENDAR