BEGIN:VCALENDAR
PRODID:-//www.city.kodaira.tokyo.jp//event
VERSION:2.0
CALSCALE:GREGORIAN
METHOD:PUBLISH
X-WR-CALNAME:Kodaira Event Calendar
X-WR-TIMEZONE:Asia/Tokyo
BEGIN:VEVENT
DTSTART;VALUE=DATE:20260510
DTEND;VALUE=DATE:20260511
DTSTAMP:20260423T150800Z
UID:event127170_1@www.city.kodaira.tokyo.jp
DESCRIPTION:環境意識の向上と緑化の推進を目的として、市民・事業者・市が一体となってイベントを開催します。\n\nhttps://www.city.kodaira.tokyo.jp/event/127/127170.html
LOCATION:
SEQUENCE:0
STATUS:CONFIRMED
SUMMARY:こだいら環境グリーンフェスティバル2026を開催します
TRANSP:OPAQUE
END:VEVENT
END:VCALENDAR