BEGIN:VCALENDAR
PRODID:-//www.city.kodaira.tokyo.jp//event
VERSION:2.0
CALSCALE:GREGORIAN
METHOD:PUBLISH
X-WR-CALNAME:Kodaira Event Calendar
X-WR-TIMEZONE:Asia/Tokyo
BEGIN:VEVENT
DTSTART;VALUE=DATE:20260516
DTEND;VALUE=DATE:20260517
DTSTAMP:20260421T010300Z
UID:event127547_1@www.city.kodaira.tokyo.jp
DESCRIPTION:ミニコンサート\n旅に出たくなる音楽をテーマにヴァイオリンとピアノのアンサンブルでお送りします。\n\nhttps://www.city.kodaira.tokyo.jp/event/127/127547.html
LOCATION:
SEQUENCE:0
STATUS:CONFIRMED
SUMMARY:鈴木公民館 ミニコンサート アナザースカイ
TRANSP:OPAQUE
END:VEVENT
END:VCALENDAR