BEGIN:VCALENDAR
PRODID:-//www.city.kodaira.tokyo.jp//event
VERSION:2.0
CALSCALE:GREGORIAN
METHOD:PUBLISH
X-WR-CALNAME:Kodaira Event Calendar
X-WR-TIMEZONE:Asia/Tokyo
BEGIN:VEVENT
DTSTART;VALUE=DATE:20260512
DTEND;VALUE=DATE:20260513
DTSTAMP:20260423T030300Z
UID:event127620_1@www.city.kodaira.tokyo.jp
DESCRIPTION:令和8年5月12日（火曜）に、小平駅南口のシンボルとなっています花壇の花株を無料でさしあげます。\nこれは毎年2回、花壇の植替え作業（次回は5月21日（木曜）予定）の前に全面的に花の抜き取りを行うため、頑張って咲き続けてくれている花たちを自宅や自治会などで育てていただける方にお配りするものです。\n\nhttps://www.city.kodaira.tokyo.jp/event/127/127620.html
LOCATION:
SEQUENCE:0
STATUS:CONFIRMED
SUMMARY:小平駅南口の花壇の花を無料でさしあげます
TRANSP:OPAQUE
END:VEVENT
END:VCALENDAR