BEGIN:VCALENDAR
PRODID:-//www.city.kodaira.tokyo.jp//event
VERSION:2.0
CALSCALE:GREGORIAN
METHOD:PUBLISH
X-WR-CALNAME:Kodaira Event Calendar
X-WR-TIMEZONE:Asia/Tokyo
BEGIN:VEVENT
DTSTART;VALUE=DATE:20260518
DTEND;VALUE=DATE:20260530
DTSTAMP:20260423T150800Z
UID:event127776_1@www.city.kodaira.tokyo.jp
DESCRIPTION:白梅学園清修中高一貫部鉄道模型デザイン班が制作した、中央エリアの鉄道模型を展示ます。\n\nhttps://www.city.kodaira.tokyo.jp/event/127/127776.html
LOCATION:
SEQUENCE:0
STATUS:CONFIRMED
SUMMARY:白梅清修が作った中央エリアの模型を展示します！
TRANSP:OPAQUE
END:VEVENT
END:VCALENDAR